Workbook
Name _: #REF!
Name _: #REF!
Name _1: "★★"
Name _1_: #REF!
Name _15A: [1]가격조사서!$D$4:$D$11
Name _2_: #REF!
Name _3_0옹벽부용수: #REF!
Name _4_0옹벽부용수: #REF!
Name _5B2_: '[2]단면 (2)'!$K$55
Name _99_상반기시중노임: #REF!
Name _99_하반기시중노임: #REF!
Name _A: #REF!
Name _A: #REF!
Name _A100000: #REF!
Name _A183154: #REF!
Name _A183154: #REF!
Name _A69999: #REF!
Name _A99999: #REF!
Name _aab42: #REF!
Name _CON135: #REF!
Name _CON210: #REF!
Name _CON240: #REF!
Name _ELL1: #REF!
Name _ELL2: #REF!
Name _GHH1: #REF!
Name _GHH2: #REF!
Name _HSH1: #REF!
Name _HSH2: #REF!
Name _JEA1: #REF!
Name _JEA2: #REF!
Name _JOI13: #REF!
Name _LG15: [3]노임단가!$D$12
Name _LG17: [3]노임단가!$D$30
Name _LG18: [3]노임단가!$D$89
Name _LG21: [3]노임단가!$D$8
Name _LG6: [3]노임단가!$D$90
Name _LG9: [3]노임단가!$D$86
Name _LL1: [4]Sheet17!$C$2
Name _LL2: [4]Sheet17!$C$3
Name _LL3: [4]Sheet17!$C$4
Name _LR1: [4]Sheet17!$F$2
Name _LR2: [4]Sheet17!$F$3
Name _LR3: [4]Sheet17!$F$4
Name _LS15: [3]노임단가!$C$12
Name _LS17: [3]노임단가!$C$30
Name _LS18: [3]노임단가!$C$89
Name _LS21: [3]노임단가!$C$8
Name _LS6: [3]노임단가!$C$90
Name _LS9: [3]노임단가!$C$86
Name _MaL1: #REF!
Name _MaL2: #REF!
Name _MG109: [3]자재단가!$H$220
Name _MG135: [3]자재단가!$H$272
Name _MG15: [3]자재단가!$H$32
Name _MG3: [3]자재단가!$H$8
Name _MG43: [3]자재단가!$H$88
Name _MG44: [3]자재단가!$H$90
Name _MG46: [3]자재단가!$H$94
Name _MG57: [3]자재단가!$H$116
Name _MG6: [3]자재단가!$H$14

Sheet 요약서
A1: 요 약 서 | G1: 위 치 도
A4: □ | B4: 용역명 | C4: : | D4: =설계표지!B7 -> 2026년 연무마을어울림터 작은 목욕탕 운영 용역
A6: □ | B6: 용역위치 | C6: : | D6: 경기 수원시 장안구 연무동 257-17
A8: □ | B8: 용역량 | C8: : | D8: 작은 목욕탕 1개소
A10: □ | B10: 용역비 | C10: : | D10: =원가계산서!D40 -> 0 | E10: ="(금"&NUMBERSTRING(D10,1)&"원)" -> (금영원)
A12: □ | B12: 용역기간 | C12: : | D12: 착수일로부터 12월 31일까지
A14: □ | B14: 용역목적 | C14: : | D14: 작은 목욕탕의 체계적·안정적 운영으로 주민에게 청결하고 안전한 목욕 편의서비스 제공

Sheet 표지
A2: 2026년 연무마을어울림터 작은 목욕탕 운영 용역
A5: 2026. 05.
A10: 수원도시재단

Sheet 차례
A2: 차 례
A4: 1. 용역 설명서
A5: 2. 과업지시서
A6: 3. 원가계산서
A7: 4. 총괄내역서
A8: 5. 산출내역서(노무비)
A9: 6. 산출내역서(재료비)
A10: 7. 참고

Sheet 간지
AG1: 1. | AM1: 용역설명서
AG4: 2. | AM4: 과업지시서
AG7: 3. | AM7: 원가계산서
AG10: 4. | AM10: 총괄내역서
AG13: 5. | AM13: 산출내역서(노무비)
AG16: 6. | AM16: 산출내역서(재료비)
AG19: 7. | AM19: 참고

Sheet 용역설명서
A2: 2026년 연무망늘어울림터 작은 목욕탕 운영 용역 설명서
A4: 1. 용 역 명 : 2026년 연무마을어울림터 작은 목욕탕 운영 용역
A5: 2. 장 소 : 연무마을어울림터 내 작은 목욕탕 1개소
A6: 3. 목 적 : 작은 목욕탕의 체계적·안정적 운영으로 주민에게 청결하고 안전한 목욕 편의서비스 제공
A7: 4. 개 요 : 작은 목욕탕 운영 용역
A8: 5. 청소관리기간 : 착수일로부터 12월 31일까지
A9: 6. 청소관리금액 : 52,500,000원(금오천이백오십만원)
A10: 7. 작은 목욕탕 운영 과업지시서 "별도첨부"

Sheet 원가계산서
A1: 원 가 계 산 서
A3: 2026년 연무마을어울림터 작은 목욕탕 운영 용역 | D3: (사업기간 : 착수일로부터 12월 31일까지)
A4: 구 분 비 목 | D4: 금 액 | E4: 구 성 비 (%) | F4: 비 고
B5: 재 | C5: 직 접 재 료 비 | E5: =(D5/$D$40)*100 -> #DIV/0!
A6: 순 | B6: 료 | C6: 간 접 재 료 비
B7: 비 | C7: 작업설부산물등(△)
C8: 소계 | E8: =(D8/$D$40)*100 -> #DIV/0!
A9: 용 | B9: 노 | C9: 직접노무비 | E9: =(D9/$D$40)*100 -> #DIV/0!
B10: 무 | C10: 간접노무비
B11: 비 | C11: 소계 | E11: =(D11/$D$40)*100 -> #DIV/0!
C12: 전력비
C13: 운반비
C14: 기계경비
C15: 특허권사용료
C16: 기술료
C17: 중기사용료
C18: 기타경비
A19: 역 | B19: 경 | C19: 산재보험료 | E19: =(D19/$D$40)*100 -> #DIV/0!
C20: 고용보험료 | E20: =(D20/$D$40)*100 -> #DIV/0!
C21: 외주가공비
C22: 안전관리비
C23: 공구손료
C24: 연구개발비
B25: 비 | C25: 건강보험료 | E25: =(D25/$D$40)*100 -> #DIV/0!
A26: 원 | C26: 노인장기요양보험 | E26: =(D26/$D$40)*100 -> #DIV/0!
C27: 연금보험료 | E27: =(D27/$D$40)*100 -> #DIV/0!
C28: 임금채권보장보험 | E28: =(D28/$D$40)*100 -> #DIV/0!
C29: 교통비
A30: 가 | C30: 지급수수료
A31: 가 | C31: 소계 | E31: =(D31/$D$40)*100 -> #DIV/0!
B32: 계 | E32: =(D32/$D$40)*100 -> #DIV/0!
A33: 일 반 관 리 비 | E33: =(D33/$D$40)*100 -> #DIV/0!
A34: 공과잡비 및 기업이윤 | E34: =(D33/$D$40)*100 -> #DIV/0!
A35: 총원가 | E35: =(D35/$D$40)*100 -> #DIV/0!
A36: 부가가치세 | E36: =(D36/$D$40)*100 -> #DIV/0!
A37: 계 | E37: =(D37/$D$40)*100 -> #DIV/0!
A38: 영업배상책임 보험
A40: 총계 | D40: =ROUNDDOWN(D37+D39+D38,-5) -> 0 | E40: =(D40/$D$40)*100 -> #DIV/0! | F40: 만단위 절사
F41: 확인자 :

Sheet 설계표지
B2: 과장 | E2: 팀장 | H2: 검산자 | K2: 설계자 | N2: 2026년 5월 일
B7: 2026년 연무마을어울림터 작은 목욕탕 운영 용역
B10: 용역개요 : 작은 목욕탕 1개소(307.89㎡)
B16: 도급액 : 금52,500,000원(금오천이백오십만원)

Sheet 총괄내역서
A1: 품 명 | B1: 규 격 | C1: 수량 | D1: 단위 | E1: 노 무 비 | G1: 재 료 비 | I1: 경 비 | K1: 계 | L1: 비 고
E2: 단 가 | F2: 금 액 | G2: 단 가 | H2: 금 액 | I2: 단 가 | J2: 금 액
A3: 광교임시수련원 공중화장실 청소관리 용역 총괄내역서(2019.01.01 ~ 2019.12.31)
A4: 1. 노무비
A5: 일 급 | B5: 소형 | C5: 1 | D5: 구역 | E5: =산출내역!D4 -> 19840000 | F5: =C5*E5 -> 19840000 | K5: =ROUNDDOWN(F5+H5+J5,0) -> 19840000
A6: 휴일수당 | B6: 소형 | C6: =C5 -> 1 | D6: 구역 | E6: =산출내역!D5 -> 7800000 | F6: =C6*E6 -> 7800000 | K6: =ROUNDDOWN(F6+H6+J6,0) -> 7800000
A7: 대체근무 | B7: 소형 | C7: =C6 -> 1 | D7: 구역 | E7: =산출내역!D6 -> 4080000 | F7: =C7*E7 -> 4080000 | K7: =ROUNDDOWN(F7+H7+J7,0) -> 4080000
A8: 연차수당 | B8: 소형 | C8: 1 | D8: 구역 | E8: =산출내역!D7 -> 960000 | F8: =C8*E8 -> 960000 | K8: =ROUNDDOWN(F8+H8+J8,0) -> 960000
A9: 주휴수당 | B9: 소형 | C9: =C7 -> 1 | D9: 구역 | E9: =산출내역!D8 -> 4160000 | F9: =C9*E9 -> 4160000 | K9: =ROUNDDOWN(F9+H9+J9,0) -> 4160000
A10: 소계 | F10: =SUM(F5:F9) -> 36840000 | K10: =ROUNDDOWN(F10+H10+J10,0) -> 36840000
A11: 2. 재료비 | B11: 소형 | C11: =C7 -> 1 | D11: 구역 | G11: =산출내역!D11 -> 0 | H11: =C11*G11 -> 0 | K11: =ROUNDDOWN(F11+H11+J11,0) -> 0
A12: 소계 | H12: =SUM(H11:H11) -> 0 | K12: =ROUNDDOWN(F12+H12+J12,0) -> 0
A13: 3. 4대 보험 | K13: =F13+H13+J13 -> 0
A14: 산재보험 | B14: 소형 | C14: =C11 -> 1 | D14: 구역 | E14: =산출내역!D12 -> 644700 | F14: =C14*E14 -> 644700 | K14: =F14 -> 644700
A15: 국민연금 | B15: 소형 | C15: =C14 -> 1 | D15: 구역 | E15: =산출내역!D13 -> 1657800 | F15: =C15*E15 -> 1657800 | K15: =F15 -> 1657800
A16: 건강보험 | B16: 소형 | C16: =C15 -> 1 | D16: 구역 | E16: =산출내역!D14 -> 1189932 | F16: =C16*E16 -> 1189932 | K16: =F16 -> 1189932
A17: 노인장기요양보험 | B17: 소형 | C17: =C16 -> 1 | D17: 구역 | E17: =산출내역!D15 -> 101263 | F17: =C17*E17 -> 101263 | K17: =F17 -> 101263
A18: 고용보험 | B18: 소형 | C18: =C16 -> 1 | D18: 구역 | E18: =산출내역!D16 -> 552600 | F18: =C18*E18 -> 552600 | K18: =F18 -> 552600
A21: 소계 | F21: =SUM(F14:F20) -> 4146295 | K21: =F21 -> 4146295
A22: 계 | F22: =F10+F21 -> 40986295 | H22: =H10+H12+H21 -> 0 | K22: =F22+H22 -> 40986295
A23: 4. 일반관리비 | B23: 소형 | C23: =C20 -> 0 | D23: 구역 | J23: =산출내역!D19 -> 2459177.7 | K23: =ROUNDDOWN(F23+H23+J23,0) -> 2459177
A24: 소계 | J24: =SUM(J23:J23) -> 2459177.7 | K24: =ROUNDDOWN(F24+H24+J24,0) -> 2459177
A25: 5. 공과잡비 및 기업이윤 | J25: =산출내역!D21 -> 3526907.7 | K25: =ROUNDDOWN(F25+H25+J25,0) -> 3526907
A26: 소계 | J26: =SUM(J25:J25) -> 3526907.7 | K26: =ROUNDDOWN(F26+H26+J26,0) -> 3526907
A27: 6. 부가세 | B27: 소형 | C27: =C23 -> 0 | D27: 구역 | J27: =산출내역!D23 -> 4697238 | K27: =ROUNDDOWN(F27+H27+J27,0) -> 4697238
A28: 소계 | J28: =SUM(J27:J27) -> 4697238 | K28: =ROUNDDOWN(F28+H28+J28,0) -> 4697238
A29: 합 계 | F29: =F22+F24+F28 -> 40986295 | H29: =H22+H24+H28 -> 0 | J29: =J24+J26+J28 -> 10683323 | K29: =ROUNDDOWN(F29+H29+J29,0) -> 51669618
A30: 도급예정액 | F30: =F22 -> 40986295 | H30: =H22 -> 0 | J30: =J24+J26+J28 -> 10683323 | K30: =ROUNDDOWN(F30+H30+J30,0) -> 51669618

Sheet 총괄 내역서
B1: 총 괄 내 역 서
B2: 2026년 연무마을 어울림터 작은 목욕탕 운영 용역
B3: 구 분 | C3: 산 출 근 거 | E3: 총금액(원) | F3: 비 고
B4: 노무비(인건비) | C4: 주5일
B5: 기 본 급 | C5: ='1인(주5일) 인건비산출내역서(년)'!F5 -> 0 | E5: =C5 -> 0
B6: 휴일수당 | C6: ='1인(주5일) 인건비산출내역서(년)'!F6 -> 0 | E6: =C6 -> 0 | F6: 해당사항없음
B7: 연차수당 | C7: ='1인(주5일) 인건비산출내역서(년)'!F7 -> 0 | E7: =C7 -> 0
B8: 주휴수당 | C8: ='1인(주5일) 인건비산출내역서(년)'!F8 -> 0 | E8: =C8 -> 0 | F8: 해당사항없음
B9: 총 급여액 | C9: =SUM(C5:D8) -> 0 | E9: =C9 -> 0
B10: 퇴직충당금 | C10: =C9/12 -> 0 | E10: =C10 -> 0
B11: ① 소 계 | C11: =SUM(E10,E9) -> 0 | E11: =C11*4 -> 0
B12: 재료비
B13: ② 소 계 | E13: =재료비!F24 -> 0
B14: 기타경비
B15: 영업배상책임 보험 | C15: 년간가입 ⅹ1식
B16: ③ 소 계
B17: 경비(복리후생비)
B18: 국민건강보험 | C18: =E9*3.595% -> 0 | E18: =C18 -> 0
B19: 국민연금 | C19: =C9*4.75% -> 0 | E19: =C19 -> 0
B20: 산재보험 | C20: =C9*0.86% -> 0 | E20: =C20 -> 0
B21: 고용보험 | C21: ='1인(주5일) 인건비산출내역서(년)'!F16 -> 0 | E21: =C21 -> 0
B22: 노인장기요양보험 | C22: =C18*13.14% -> 0 | E22: =C22 -> 0
B23: 임금채권보장보험 | C23: =C9*0.06% -> 0 | E23: =C23 -> 0
B24: ④ 소 계 | C24: =SUM(C18:D23) -> 0 | E24: =SUM(C18:C23)*4 -> 0
B25: 순용역원가
B26: ⑤ 일반관리비 | C26: (①노무비+②재료비+③기타경비+④경비)×2.8%이내 | E26: =INT(E25*2.2%) -> 0
B27: ⑥이윤 | C27: (①노무비+③기타경비+④경비+⑤ 일관)×2.3%이내
B28: 총원가 | C28: ①노무비+②재료비+③경비+④일관+⑤이윤 | E28: =E11+E13+E16+E24+E26+E27 -> 0
B29: 부가세 | C29: 총원가×10% | E29: =INT(E28*0.1) -> 0
B30: 도급액 | E30: =ROUNDDOWN(E28+E29,-5) -> 0 | F30: 만단위 절사

Sheet 1인(주5일) 인건비산출내역서(년)
A1: 1인(주5일) 작은 목욕탕 인건비 산출내역서 | I1: 휴무 | K1: 근무
A2: 2026년 연무마을 어울림터 작은 목욕탕 운영 용역 | I2: 토,일 | K2: 월화수목금 | R2: 2026 생활임금 | S2: 11480 | T2: 원
A3: 구 분 | F3: 금액(원) | G3: 비 고 | I3: 2일 | J3: 휴2일-토,일 중 법정공휴일 | K3: 5일 | L3: 휴5일-월,화,수,목,금 중 법정공휴일 | M3: 월간일수 | N3: 법정공휴일 | R3: 인건비 | S3: 11480 | T3: 원
A4: 인 건 비 | H4: 1 | I4: 9 | J4: 0 | K4: =M4-I4 -> 22 | L4: 0 | M4: 31
A5: 기 본 급 | B5: 11480 | C5: 4 | D5: ⅹ147일 | G5: * 단순노무 : 2026 경기도 생활임금(11,480원) 적용 1일 4시간 | H5: 2 | I5: 8 | J5: 0 | K5: 20 | L5: 0 | M5: 28
A6: 휴일수당 | B6: =B5 -> 11480 | C6: 4 | D6: =L17 -> 0 | E6: 1.5 | G6: 해당사항없음 | H6: 3 | I6: 9 | J6: 0 | K6: 22 | L6: 0 | M6: 31
A7: 연차수당 | B7: =B6 -> 11480 | C7: 4 | D7: 7 | G7: 근로기준법 제60조1항 | H7: 4 | I7: 8 | J7: 0 | K7: =M7-I7 -> 22 | L7: 0 | M7: 30
A8: 주휴수당 | B8: =B6 -> 11480 | C8: 4 | D8: 30 | G8: 근로기준법 제55조 | H8: 5 | I8: 10 | J8: 0 | K8: 9 | L8: 0 | M8: 31
A9: 총 급여액 | H9: 6 | I9: 8 | J9: 0 | K9: 21 | L9: 0 | M9: 30
A10: 퇴직충당금 | B10: (기본급+제수당+상여금) / 12개월 | G10: 해당사항없음 | H10: 7 | I10: 8 | J10: 0 | K10: 23 | L10: 0 | M10: 31
A11: 소 계 | H11: 8 | I11: 10 | J11: 0 | K11: 20 | L11: 0 | M11: 31
A12: 복리후생비 | H12: 9 | I12: 8 | J12: 0 | K12: 20 | L12: 0 | M12: 30
A13: 국민건강보험 | B13: =$F$9 -> 0 | C13: 0.03545 | G13: 국민건강보험법 제69조 | H13: 10 | I13: 9 | J13: 0 | K13: 20 | L13: 0 | M13: 31
A14: 국민연금 | B14: =$F$9 -> 0 | C14: 0.045 | G14: 국민연금법 제88조 동법시행령 제5조 | H14: 11 | I14: 9 | J14: 0 | K14: =M14-I14 -> 21 | L14: 0 | M14: 30
A15: 산재보험 | B15: =$F$9 -> 0 | C15: 0.0086 | G15: 고용산재보험료징수법 시행령 제13조 | H15: 12 | I15: 8 | J15: 0 | K15: 22 | L15: 0 | M15: 31
A16: 고용보험 | B16: =$F$9 -> 0 | C16: 0.0115 | G16: 고용보험법 제6조 보호지침
A17: 노인장기요양보험 | B17: =F13 -> 0 | C17: 0.1295 | G17: 노인장기요양보험법 제9조동법 시행령 제4조 | H17: 계 | J17: =SUM(J4:J15) -> 0 | K17: =SUM(K9:K15) -> 147 | L17: =SUM(L8:L15) -> 0 | M17: =SUM(M4:M15) -> 365
A18: 임금채권보장보험 | B18: =$F$9 -> 0 | C18: 0.0006 | G18: 임금채권보장법 제9조
A19: 소 계
A20: 기타경비
A21: 영업배상책임보험 | B21: 년가압 금액ⅹ1식
A22: 소 계
A23: 합 계 | F23: =SUM(,F11,F19,F22) -> 0

Sheet 1인(주2일) 인건비산출내역서(년)
A1: 1인(주2일) 청소용역 인건비 산출내역서 (년) | Q1: 낙찰률 | R1: 96 | S1: %
A2: 2023년 광교수련원 공중화장실 청소관리 용역 | I2: 월화 | K2: 수목금토일 | Q2: 2023 생활임금 | R2: 10390 | S2: 원
A3: 구 분 | F3: 금액(원) | G3: 비 고 | I3: 2일 | J3: 휴2일 | K3: 5일 | L3: 휴5일 | M3: 월간일수 | Q3: 낙찰률 고려 | R3: =ROUNDUP(R2/R1%,0) -> 10823 | S3: 원
A4: 인 건 비 | H4: 1 | I4: 8 | J4: 2 | K4: 19 | L4: 2 | M4: =SUM(I4:L4) -> 31 | N4: 21~24
A5: 기 본 급 | B5: 10823 | C5: 7 | D5: =I17+J17 -> 104 | F5: =INT(B5*C5*D5) -> 7879144 | G5: 근로기준법 제43조(통상시급) | H5: 2 | I5: 8 | J5: 0 | K5: 20 | L5: 0 | M5: =SUM(I5:L5) -> 28
A6: 휴일수당 | B6: =B5 -> 10823 | C6: 7 | D6: =J17 -> 7 | E6: 1.5 | F6: =INT(B6*C6*D6*E6) -> 795490 | G6: 근로기준법 제56조 | H6: 3 | I6: 8 | J6: 0 | K6: 22 | L6: 1 | M6: =SUM(I6:L6) -> 31 | N6: 1
A7: 연차수당 | B7: =B6 -> 10823 | C7: 7 | D7: 1e-07 | E7: 15 | G7: 근로기준법 제60조1항 | H7: 4 | I7: 8 | J7: 0 | K7: 22 | L7: 0 | M7: =SUM(I7:L7) -> 30
A8: 주휴수당 | B8: =B6 -> 10823 | C8: 7 | D8: 1e-07 | E8: 52 | G8: 근로기준법 제55조(휴일) | H8: 5 | I8: 10 | J8: 0 | K8: 19 | L8: 2 | M8: =SUM(I8:L8) -> 31 | N8: 5,27
A9: 총 급여액 | F9: =SUM(F5:F8) -> 8674634 | G9: =F9/12 -> 722886.17 | H9: 6 | I9: 7 | J9: 1 | K9: 22 | L9: 0 | M9: =SUM(I9:L9) -> 30 | N9: 6
A10: 퇴직충당금 | B10: 퇴직전 3개월 평균 일급 | D10: 30 | F10: =U13*30 -> 642321.52 | G10: 근로기준법제34조 근로자퇴직급여 보장법제8조1항 | H10: 7 | I10: 9 | J10: 0 | K10: 22 | L10: 0 | M10: =SUM(I10:L10) -> 31 | O10: 근무일 | P10: 24일 | Q10: 10823 | R10: 7 | S10: =I13+I14+I15 -> 23 | U10: =Q10*R10*S10 -> 1742503
A11: 소 계 | F11: =SUM(F9:F10) -> 9316955.5 | H11: 8 | I11: 8 | J11: 1 | K11: 22 | L11: 0 | M11: =SUM(I11:L11) -> 31 | N11: 15 | O11: 빨간날 | P11: 2일 | Q11: 10823 | R11: 7 | S11: 2 | T11: 1.5 | U11: =Q11*R11*S11*T11 -> 227283
A12: 복리후생비 | H12: 9 | I12: 8 | J12: 0 | K12: 19 | L12: 3 | M12: =SUM(I12:L12) -> 30 | N12: 28~30 | O12: 10~12월 | P12: 92일 | T12: 합계 | U12: =U10+U11 -> 1969786
A13: 국민건강보험 | B13: =$F$9 -> 8674634 | C13: 0.0343 | F13: =INT(B13*C13) -> 297539 | G13: 국민건강보험법 제69조 | H13: 10 | I13: 8 | J13: 2 | K13: 21 | L13: 0 | M13: =SUM(I13:L13) -> 31 | N13: 3,9 | T13: 평균일급 | U13: =U12/92 -> 21410.717
A14: 국민연금 | B14: =$F$9 -> 8674634 | C14: 0.045 | F14: =INT(B14*C14) -> 390358 | G14: 국민연금법 제88조 동법시행령 제5조 | H14: 11 | I14: 8 | J14: 0 | K14: 22 | L14: 0 | M14: =SUM(I14:L14) -> 30
A15: 산재보험 | B15: =$F$9 -> 8674634 | C15: 0.009 | F15: =INT(B15*C15) -> 78071 | G15: 고용산재보험료징수법 시행령 제13조 | H15: 12 | I15: 7 | J15: 1 | K15: 23 | L15: 0 | M15: =SUM(I15:L15) -> 31
A16: 고용보험 | B16: =$F$9 -> 8674634 | C16: 0.008 | F16: =INT(B16*C16) -> 69397 | G16: 고용보험법 제6조
A17: 노인장기요양보험 | B17: =F13 -> 297539 | C17: 0.1152 | F17: =INT(B17*C17) -> 34276 | G17: 노인장기요양보험법 제9조 동법 시행령 제4조 | H17: 계 | I17: =SUM(I4:I15) -> 97 | J17: =SUM(J4:J15) -> 7 | K17: =SUM(K4:K15) -> 253 | L17: =SUM(L4:L15) -> 8
A18: 소 계 | F18: =SUM(F13:F17) -> 869641
A19: 합 계 | F19: =SUM(F18,F11) -> 10186597

Sheet 2020년 근무일수
B2: 구분 | C2: 2020년 | D2: 1월 | E2: 2월 | F2: 3월 | G2: 4월 | H2: 5월 | I2: 6월 | J2: 7월 | K2: 8월 | L2: 9월 | M2: 10월 | N2: 11월 | O2: 12월
B3: 검정날 | C3: =SUM(D3:O3) -> 251 | D3: 20 | E3: 20 | F3: 22 | G3: 20 | H3: 20 | I3: 22 | J3: 23 | K3: 21 | L3: 21 | M3: 19 | N3: 21 | O3: 22
B4: 파란날 | C4: =SUM(D4:O4) -> 48 | D4: 3 | E4: 5 | F4: 4 | G4: 4 | H4: 5 | I4: 3 | J4: 4 | K4: 4 | L4: 4 | M4: 4 | N4: 4 | O4: 4
B5: 빨간날 | C5: =SUM(D5:O5) -> 67 | D5: 8 | E5: 4 | F5: 5 | G5: 6 | H5: 6 | I5: 5 | J5: 4 | K5: 6 | L5: 5 | M5: 8 | N5: 5 | O5: 5
B6: 합계 | C6: =SUM(D6:O6) -> 366 | D6: =SUM(D3:D5) -> 31 | E6: =SUM(E3:E5) -> 29 | F6: =SUM(F3:F5) -> 31 | G6: =SUM(G3:G5) -> 30 | H6: =SUM(H3:H5) -> 31 | I6: =SUM(I3:I5) -> 30 | J6: =SUM(J3:J5) -> 31 | K6: =SUM(K3:K5) -> 31 | ... O6: =SUM(O3:O5) -> 31

Sheet 산출내역
A1: 광교임시수련원 공중화장실 청소관리 산 출 내 역
F2: (단위 : 원)
A3: 구 분 | D3: 금 액 | E3: 산 출 내 역 | F3: 비 고 | I3: 65674
A4: 인 건 비 | B4: 일 급 | D4: =80000*248 -> 19840000 | E4: 80,000원×249일 | F4: 2019년 수원시 생활임금 : 80,000원 - 시에 공사, 용역 등을 제공하는 기관 및 업체에 소속된 근로자 | J4: 일급 | K4: 휴일 | L4: 주휴 | M4: 토요일 (연장근로) | N4: 총계
B5: 제 수 당 | C5: 휴일수당 | D5: =80000*1.5*65 -> 7800000 | E5: 80,000원×1.5×65일 | F5: 근로기준법 제56조(연장, 야간 및 휴일근로) | I5: 5/1~5/31 | J5: 21 | K5: 7 | L5: 4 | M5: 3 | N5: =J5+K5+M5 -> 31 | O5: 어린이날 석가탄신일
C6: 대체근무 | D6: =80000*51 -> 4080000 | E6: 80,000원×51일 | F6: 근로기준법 제56조(연장, 야간 및 휴일근로) (토요일) | I6: 6/1~6/30 | J6: 21 | K6: 5 | L6: 5 | M6: 4 | N6: =J6+K6+M6 -> 30 | O6: 현충일
C7: 연차수당 | D7: =80000*12 -> 960000 | E7: 80,000원×12월 | F7: 근로기준법 제60조(연차유급휴가) (1년미만 근로자 1개월 개근시 1일 유급휴가) | I7: 7/1~7/31 | J7: 21 | K7: 5 | L7: 4 | M7: 5 | N7: =J7+K7+M7 -> 31
C8: 주휴수당 | D8: =80000*52 -> 4160000 | E8: 80,000원×52주 | F8: 근로기준법 제55조(휴일) | I8: 8/1~8/31 | J8: 22 | K8: 5 | L8: 4 | M8: 4 | N8: =J8+K8+M8 -> 31 | O8: 광복절
C9: 퇴직충당금 | E9: 계속근로기간 1년에 대하여 30일분의 평균임금 | F9: 근로자퇴직급여 보장법 제15조
B10: 소 계 ① | D10: =SUM(D4:D8) -> 36840000 | I10: 9/1~9/30 | J10: 19 | K10: 7 | L10: 5 | M10: 4 | N10: =J10+K10+M10 -> 30 | O10: 추석
A11: 재료비(소모품비) ② | D11: =재료비!F27 -> 0 | E11: 산출내역 붙임 | F11: (화장지,물비누,방향제,종량제,봉투, 기타 청소용품 등)총도급액의 20% 이내 | I11: 10/1~10/31 | J11: 20 | K11: 6 | L11: 4 | M11: 5 | N11: =J11+K11+M11 -> 31 | O11: 개천절
A12: 보 험 료 | B12: 산재보험 | D12: =D10*0.0175 -> 644700 | E12: ①×1.75% | F12: 산업재해보상보험법 제4조(산재보험 175/1,000) | I12: 11/1~11/30 | J12: 22 | K12: 4 | L12: 4 | M12: 4 | N12: =J12+K12+M12 -> 30
B13: 국민연금 | D13: =ROUNDDOWN(D10*4.5%,0) -> 1657800 | E13: ①×4.5% | F13: 국민연금법 제88조(국민연금 45/1,000) | I13: 12/1~12/31 | J13: 22 | K13: 4 | L13: 5 | M13: 5 | N13: =J13+K13+M13 -> 31
B14: 건강 보험 | C14: 건강보험 | D14: =ROUNDDOWN(D10*3.23%,0) -> 1189932 | E14: ①×3.23% | F14: 노인장기요양보험법 제9조 (건강보험 32.3/1000) | J14: =SUM(J5:J13) -> 168 | K14: =SUM(K5:K13) -> 43 | L14: =SUM(L5:L13) -> 35 | M14: =SUM(M5:M13) -> 34 | N14: =SUM(N5:N13) -> 245
C15: 노인장기 요양보험 | D15: =ROUNDDOWN(D14*8.51%,0) -> 101263 | E15: 건강보험×8.51% | F15: 노인장기요양보험법 제9조 및 시행령 제4조 (건강보험료의 8.51/100)
B16: 고용보험 | D16: =D10*0.015 -> 552600 | E16: ①×1.5% | F16: 고용보험법 제6조(고용보험 15/1000)
B17: 소 계 ③ | D17: =SUM(D12:D16) -> 4146295
A18: 소 계(①+②+③) | D18: =SUM(D10,D11,D17) -> 40986295 | E18: 인건비+재료비+4대보험
A19: 일반관리비 ④ (①+②+③)×6% | D19: =D18*0.06 -> 2459177.7 | E19: (①+②+③)×6%이내 | F19: 지방자치단체를당사자로하는계약에관한법률시행규칙 제8조제1항제13호
A20: 산출금액(①+②+③+④) | D20: =SUM(D18:D19) -> 43445473 | E20: 인건비+재료비+4대 보험 +일반관리비
A21: 이윤 ⑤ | D21: =INT(D20*8.12%)-864.3 -> 3526907.7 | E21: 산출금액의 10%이내 | F21: 지방자치단체를당사자로하는계약에관한법률시행규칙 제8조제2항제4호
A22: 총원가 (①+②+③+④+⑤) | D22: =SUM(D20:D21) -> 46972380
A23: 부가가치세 (총원가의 10%) | D23: =INT(D22*10%) -> 4697238 | F23: `
A24: 합 계 | D24: =SUM(D22:D23) -> 51669618

Sheet 단가산정기준
A1: □ 단가산정 기준 - 광교임시수련원 청소관리 용역
A2: 1. 주5일 근무할 경우 계산
A3: 가. 366일 ÷ 7일 = 52.29주(52주2일)
A4: 나. {[40시간(1주일)+주휴수당 1일(8시간)] × 52주} + 2일(16시간) = | G4: =(48*52)+16 -> 2512
A5: =G4 -> 2512 | B5: 12 | C5: = | D5: =ROUNDDOWN(A5/B5,2) -> 209.33 | E5: = | F5: 209
A6: ※주5일근무자 | B6: = | C6: =F5 -> 209 | E6: (한달근무시간)
A7: 주 1) 기본급 = 2020년 수원시 생활임금 고시 적용
A8: 가)(8H × 25일) 일급 = | D8: 68899 | E8: 8 | F8: =D8/E8+0.25 -> 8612.625
A9: 10150 | B9: =F5 -> 209 | C9: = | D9: =A9*B9 -> 2121350 | E9: (월 기본급)
A10: 2) 피 복 비 = 70,000원 : 작업복(70,000원×2착) = 140,000원
A11: 1년 2착(하,동복)
A12: ※ 2017년 예산편성 운영기준 환경미화원 피복 참조

Sheet 재료비
A1: 2026년 연무마을어울림터 작은 목욕탕 운영 용역 연 간 재 료 비 산 출 내 역
F2: (단위:원)
A3: 품 명 | B3: 규 격 | C3: 단 위 | D3: 수 량 | E3: 단 가 | F3: 금 액 | G3: 비 고
A4: =소모품단가표!A5 -> 화장지 | B4: =소모품단가표!B5 -> 뽀삐점보롤 500m | C4: =소모품단가표!C5 -> 롤 | D4: 250 | E4: =소모품단가표!G5 -> 0 | F4: =D4*E4 -> 0
A5: =소모품단가표!A6 -> 방향제 | B5: =소모품단가표!B6 -> 방향제 | C5: =소모품단가표!C6 -> 개 | D5: 15 | E5: =소모품단가표!G6 -> 0 | F5: =D5*E5 -> 0
A6: =소모품단가표!A7 -> 손세정용 세제 | B6: =소모품단가표!B7 -> 물비누(18L) | C6: =소모품단가표!C7 -> 통 | D6: 4 | E6: =소모품단가표!G7 -> 0 | F6: =D6*E6 -> 0
A7: =소모품단가표!A8 -> 다목적 세척제 | B7: =소모품단가표!B8 -> 다목적 세정제(18L) | C7: =소모품단가표!C8 -> 통 | D7: 4 | E7: =소모품단가표!G8 -> 0 | F7: =D7*E7 -> 0
A8: =소모품단가표!A9 -> 변기전용 세제 | B8: =소모품단가표!B9 -> 화장실변기 세정제(18L) | C8: =소모품단가표!C9 -> 통 | D8: 2 | E8: =소모품단가표!G9 -> 0 | F8: =D8*E8 -> 0
A9: =소모품단가표!A10 -> 실리콘 물밀대 | B9: =소모품단가표!B10 -> 물밀대(스퀴지 대) | C9: =소모품단가표!C10 -> 개 | D9: 4 | E9: =소모품단가표!G10 -> 0 | F9: =D9*E9 -> 0
A10: =소모품단가표!A11 -> 마포자루 | B10: =소모품단가표!B11 -> 알류미늄마포대 | C10: =소모품단가표!C11 -> 개 | D10: 6 | E10: =소모품단가표!G11 -> 0 | F10: =D10*E10 -> 0
A11: =소모품단가표!A12 -> 마포걸레 | B11: =소모품단가표!B12 -> 마포걸레(극세사,청사) | C11: =소모품단가표!C12 -> 개 | D11: 8 | E11: =소모품단가표!G12 -> 0 | F11: =D11*E11 -> 0
A12: =소모품단가표!A13 -> 빗자루 | B12: =소모품단가표!B13 -> 특 롱 갈대비(실내용) | C12: =소모품단가표!C13 -> 개 | D12: 6 | E12: =소모품단가표!G13 -> 0 | F12: =D12*E12 -> 0
A13: =소모품단가표!A14 -> 바닦청소걸레 | B13: =소모품단가표!B14 -> 에이클린청소밀대set | C13: =소모품단가표!C14 -> 개 | D13: 4 | E13: =소모품단가표!G14 -> 0 | F13: =D13*E13 -> 0
A14: =소모품단가표!A15 -> 수건 | B14: =소모품단가표!B15 -> 30수 면사(타올) | C14: =소모품단가표!C15 -> 개 | D14: 200 | E14: =소모품단가표!G15 -> 0 | F14: =D14*E14 -> 0
A15: =소모품단가표!A16 -> 목욕의자 | B15: =소모품단가표!B16 -> 사각목욕탕의자 | C15: =소모품단가표!C16 -> 개 | D15: 15 | E15: =소모품단가표!G16 -> 0 | F15: =D15*E15 -> 0
... A23: =소모품단가표!A24 -> 종량제봉투 | B23: =소모품단가표!B24 -> 75L | C23: =소모품단가표!C24 -> 매 | D23: 50 | E23: =소모품단가표!G24 -> 0 | F23: =D23*E23 -> 0
A24: 합 계 | F24: =SUM(F4:F23) -> 0
B31: `

Sheet 소모품단가표
A1: 소모품비 단가표
H3: [단위 : 원]
A4: 항 목 | B4: 규 격 | C4: 단 위 | D4: 나라장터 종합쇼핑몰 | E4: 네이버 | G4: 적 용 단 가 | H4: 비 고
A5: 화장지 | B5: 뽀삐점보롤 500m | C5: 롤 | D5: -
A6: 방향제 | B6: 방향제 | C6: 개 | D6: -
A7: 손세정용 세제 | B7: 물비누(18L) | C7: 통 | D7: -
A8: 다목적 세척제 | B8: 다목적 세정제(18L) | C8: 통 | D8: -
A9: 변기전용 세제 | B9: 화장실변기 세정제(18L) | C9: 통 | D9: -
A10: 실리콘 물밀대 | B10: 물밀대(스퀴지 대) | C10: 개 | D10: -
A11: 마포자루 | B11: 알류미늄마포대 | C11: 개 | D11: -
A12: 마포걸레 | B12: 마포걸레(극세사,청사) | C12: 개 | D12: -
A13: 빗자루 | B13: 특 롱 갈대비(실내용) | C13: 개 | D13: -
A14: 바닦청소걸레 | B14: 에이클린청소밀대set | C14: 개 | D14: -
A15: 수건 | B15: 30수 면사(타올) | C15: 개 | D15: -
A16: 목욕의자 | B16: 사각목욕탕의자 | C16: 개 | D16: -
... A22: 쓰레기통(대) | B22: 종량제75L 규격사각 | C22: 개 | D22: -
A23: 세탁바구니 | B23: 바구니대형(이사짐용) | C23: 개
A24: 종량제봉투 | B24: 75L | C24: 매 | G24: =MIN(D24,E24) -> 0
A25: 주1) 소모품 적용단가는 (나라장터종합쇼핑몰, 시장조사(쿠팡))
A26: 2) 종량제 규격봉투는 수원시 가격 적용

Sheet 생활임금 고시

Sheet 공중화장실현황
A1: 일련 번호 | B1: 구분 | C1: 화장실명 | D1: 소 재 지 | E1: 면 적 | G1: 개방 시간 | H1: 시 설 내 역 | P1: 장애인 시설 여부 (0, X) | Q1: 난방방식 | R1: 월평균 이용인원 | S1: 비고
H2: 대 변 기 | K2: 소 변 기 | M2: 세 면 대
E3: 대지면적 | F3: 건물면적 | H3: 남 | I3: 여 | J3: 장애인 | K3: 성인용 | M3: 남 | N3: 여 | O3: 장애인
A4: 1 | B4: 신규 | C4: 광교임시 수련원 | D4: 장안구 하광교동 89-2 (수련원 주차장 부지내) | E4: 1438 | F4: 40 | G4: 9시간 | H4: 3 | I4: 4 | J4: 1 | K4: 3 | M4: 2 | N4: 2 | O4: 1 | P4: 0 | Q4: 전기 | R4: 100
